BEGIN:VCALENDAR
VERSION:2.0
PRODID:-//FHIP UKMC - ECPv5.8.0//NONSGML v1.0//EN
CALSCALE:GREGORIAN
METHOD:PUBLISH
X-WR-CALNAME:FHIP UKMC
X-ORIGINAL-URL:https://fhip.ukmc.ac.id
X-WR-CALDESC:Events for FHIP UKMC
BEGIN:VTIMEZONE
TZID:UTC
BEGIN:STANDARD
TZOFFSETFROM:+0000
TZOFFSETTO:+0000
TZNAME:UTC
DTSTART:20250101T000000
END:STANDARD
END:VTIMEZONE
BEGIN:VEVENT
DTSTART;TZID=UTC:20250828T080000
DTEND;TZID=UTC:20250828T150000
DTSTAMP:20260422T092320
CREATED:20250805T033406Z
LAST-MODIFIED:20250805T033406Z
UID:1146-1756368000-1756393200@fhip.ukmc.ac.id
SUMMARY:HUMANICATION DAY 2025
DESCRIPTION:HUMANICATION DAY 2025 – Sambut Hangat Mahasiswa Baru FHIP UKMC \nFakultas Humaniora dan Ilmu Pendidikan (FHIP) UKMC dengan bangga mempersembahkan HUMANICATION DAY 2025\, sebuah acara penyambutan resmi bagi mahasiswa baru dari Program Studi Psikologi\, Pendidikan Guru Sekolah Dasar (PGSD)\, dan Pendidikan Bahasa Inggris (PBI). \nNama HUMANICATION merupakan kata bentukan dari Humanities dan Education\, yang terinspirasi dari nama fakultas—Fakultas Humaniora dan Ilmu Pendidikan. Istilah ini mencerminkan semangat dan nilai inti FHIP\, yaitu humanis dan edukatif. HUMANICATION menjadi simbol awal perjalanan para mahasiswa baru dalam membangun jati diri akademik dan karakter yang berlandaskan kemanusiaan dan pendidikan. \n📅 Tanggal: Kamis\, 28 Agustus 2025\n📍 Tempat: Gedung Aloysius\, Kampus Bangau – UKMC\n⏰ Waktu: 08.00 – 15.00 WIB \nMari bergabung dalam kegiatan penuh inspirasi\, interaksi\, dan kebersamaan sebagai langkah awal menjadi bagian dari keluarga besar FHIP UKMC.
URL:https://fhip.ukmc.ac.id/event/humanication-day-2025/
CATEGORIES:Kemahasiswaan
END:VEVENT
END:VCALENDAR